BEGIN:VCALENDAR
VERSION:2.0
PRODID:-//hacksw/handcal//NONSGML v1.0//EN
BEGIN:VEVENT
SUMMARY:Rencontre contre Bessancourt
UID:085831aa-0caf-4321-8a25-456f09722ea3
DTSTART:20260515T180000Z
DTEND:20260515T203000Z
LOCATION:Localisation   
CATEGORIES:Sportif
STATUS:
URL;VALUE=URI:https://www.domontennisdetable.com/evenements/2026/05/15/rencontre-contre-bessancourt-2438918
END:VEVENT
END:VCALENDAR
