BEGIN:VCALENDAR
VERSION:2.0
PRODID:-//hacksw/handcal//NONSGML v1.0//EN
BEGIN:VEVENT
SUMMARY:Rencontre a domicile a 15 H 00 contre Paris 20
UID:f58f1585-23fe-44a5-8439-9b5dfcc4a257
DTSTART:20260509T130000Z
DTEND:20260509T170000Z
LOCATION:Localisation   
CATEGORIES:Sportif
STATUS:
URL;VALUE=URI:https://www.domontennisdetable.com/evenements/2026/05/09/rencontre-a-domicile-a-15-h-00-contre-paris-20-2444599
END:VEVENT
END:VCALENDAR
